BEGIN:VCALENDAR
VERSION:2.0
PRODID:-//Energies du Pays de Rennes - ECPv6.15.17.1//NONSGML v1.0//EN
CALSCALE:GREGORIAN
METHOD:PUBLISH
X-WR-CALNAME:Energies du Pays de Rennes
X-ORIGINAL-URL:https://energiesdupaysderennes.fr
X-WR-CALDESC:Évènements pour Energies du Pays de Rennes
REFRESH-INTERVAL;VALUE=DURATION:PT1H
X-Robots-Tag:noindex
X-PUBLISHED-TTL:PT1H
BEGIN:VTIMEZONE
TZID:Europe/Paris
BEGIN:DAYLIGHT
TZOFFSETFROM:+0100
TZOFFSETTO:+0200
TZNAME:CEST
DTSTART:20240331T010000
END:DAYLIGHT
BEGIN:STANDARD
TZOFFSETFROM:+0200
TZOFFSETTO:+0100
TZNAME:CET
DTSTART:20241027T010000
END:STANDARD
BEGIN:DAYLIGHT
TZOFFSETFROM:+0100
TZOFFSETTO:+0200
TZNAME:CEST
DTSTART:20250330T010000
END:DAYLIGHT
BEGIN:STANDARD
TZOFFSETFROM:+0200
TZOFFSETTO:+0100
TZNAME:CET
DTSTART:20251026T010000
END:STANDARD
BEGIN:DAYLIGHT
TZOFFSETFROM:+0100
TZOFFSETTO:+0200
TZNAME:CEST
DTSTART:20260329T010000
END:DAYLIGHT
BEGIN:STANDARD
TZOFFSETFROM:+0200
TZOFFSETTO:+0100
TZNAME:CET
DTSTART:20261025T010000
END:STANDARD
END:VTIMEZONE
BEGIN:VEVENT
DTSTART;TZID=Europe/Paris:20250607T093000
DTEND;TZID=Europe/Paris:20250607T104500
DTSTAMP:20260419T232213
CREATED:20250517T160041Z
LAST-MODIFIED:20250517T160041Z
UID:1596-1749288600-1749293100@energiesdupaysderennes.fr
SUMMARY:Atelier cablage panneau photovoltaïque plug and play à Bruz
DESCRIPTION:L’association Energies du pays de Rennes organise avec la commune de Bruz\, une nouvelle session d’ateliers d’initiation/câblage/distribution de panneaux solaires plug and play. \nAvec un panneau solaire plug and play\, vous lui trouverez une belle place au soleil pour qu’il produise chaque année entre 400 et 500 kWh d’électricité que vous effacerez de votre facture d’électricité. La participation à l’atelier est obligatoire\, de sorte que vous soyez le mieux informé de son utilisation. Au cours de l’atelier\, nous ferons ensemble le câblage\, que nous testerons pour vérifier la sécurité de l’installation. \nContacter l’association pour vous inscrire et réserver un panneau.
URL:https://energiesdupaysderennes.fr/event/atelier-cablage-panneau-photovoltaique-plug-and-play-a-bruz/
LOCATION:Manoir de la Noé\, 26 rue de la Noé\, Bruz\, 35170
END:VEVENT
BEGIN:VEVENT
DTSTART;TZID=Europe/Paris:20250625T200000
DTEND;TZID=Europe/Paris:20250625T220000
DTSTAMP:20260419T232213
CREATED:20250617T143356Z
LAST-MODIFIED:20250617T143356Z
UID:1645-1750881600-1750888800@energiesdupaysderennes.fr
SUMMARY:Une nouvelle centrale photovoltaïque à Vezin\, en circuit court
DESCRIPTION:Avec le collectif Vezin’Sol\, l’association Energies du pays de Rennes et la société citoyenne CIREN\, lancement d’une nouvelle centrale photovoltaïque sur le centre technique municipal de Vezin. Venez découvrir le projet : \n\nprésentation de la réalisation prévue\ncomment participer au financement puis la gouvernance de l’exploitation de l’installation\nconsommateurs d’électricité à proximité ? Vous pourrez vous approvisionner en électricité renouvelable à travers la nouvelle boucle d’autoconsommation collective\n\nRdv mercredi 25 juin 2025 à 20h\, médiathèque Le Tempo à Vezin.
URL:https://energiesdupaysderennes.fr/event/une-nouvelle-centrale-photovoltaique-a-vezin-en-circuit-court/
LOCATION:salle mosaïque\, médiathèque Le Tempo 11 Ctr de l’Église\, 35132 Vezin-le-Coquet\, 11 Ctr de l'Église\,\, Vezin-le-Coquet\, 35132\, France
END:VEVENT
END:VCALENDAR