BEGIN:VCALENDAR
VERSION:2.0
PRODID:-//Energies du Pays de Rennes - ECPv6.15.17.1//NONSGML v1.0//EN
CALSCALE:GREGORIAN
METHOD:PUBLISH
X-WR-CALNAME:Energies du Pays de Rennes
X-ORIGINAL-URL:https://energiesdupaysderennes.fr
X-WR-CALDESC:Évènements pour Energies du Pays de Rennes
REFRESH-INTERVAL;VALUE=DURATION:PT1H
X-Robots-Tag:noindex
X-PUBLISHED-TTL:PT1H
BEGIN:VTIMEZONE
TZID:Europe/Paris
BEGIN:DAYLIGHT
TZOFFSETFROM:+0100
TZOFFSETTO:+0200
TZNAME:CEST
DTSTART:20240331T010000
END:DAYLIGHT
BEGIN:STANDARD
TZOFFSETFROM:+0200
TZOFFSETTO:+0100
TZNAME:CET
DTSTART:20241027T010000
END:STANDARD
BEGIN:DAYLIGHT
TZOFFSETFROM:+0100
TZOFFSETTO:+0200
TZNAME:CEST
DTSTART:20250330T010000
END:DAYLIGHT
BEGIN:STANDARD
TZOFFSETFROM:+0200
TZOFFSETTO:+0100
TZNAME:CET
DTSTART:20251026T010000
END:STANDARD
BEGIN:DAYLIGHT
TZOFFSETFROM:+0100
TZOFFSETTO:+0200
TZNAME:CEST
DTSTART:20260329T010000
END:DAYLIGHT
BEGIN:STANDARD
TZOFFSETFROM:+0200
TZOFFSETTO:+0100
TZNAME:CET
DTSTART:20261025T010000
END:STANDARD
END:VTIMEZONE
BEGIN:VEVENT
DTSTART;TZID=Europe/Paris:20250505T200000
DTEND;TZID=Europe/Paris:20250505T223000
DTSTAMP:20260420T005947
CREATED:20250409T121700Z
LAST-MODIFIED:20250430T090036Z
UID:1284-1746475200-1746484200@energiesdupaysderennes.fr
SUMMARY:5 mai 2025 - ECLAIRS Bruzois : le programme de déploiement en 2025
DESCRIPTION:Présentation du projet global ECLAIRS Bruzois : \n\nla création d’une centrale solaire sur le toit de l’école Prévert\nle démarrage d’une opération d’autoconsommation collective solidaire ECLAIRS : le partage de l’électricité produite par la centrale solaire avec les consommateurs à proximité\nles démarches pour participer à tout ou partie du programme\nles perspectives d’extension par la suite\n\nLundi 5 mai 2025 à 20h – salle Romarin – Maison des associations \n59 Av Alphonse Legault\, Bruz
URL:https://energiesdupaysderennes.fr/event/eclairs-bruzois-le-programme-de-deploiement-en-2025/
LOCATION:Maison des associations\, 59 Avenue Alphonse Legault\, Bruz\, 35170\, France
ATTACH;FMTTYPE=image/jpeg:https://energiesdupaysderennes.fr/wp-content/uploads/2025/01/BruzEcolePrevert-1.jpg
END:VEVENT
BEGIN:VEVENT
DTSTART;TZID=Europe/Paris:20250514T200000
DTEND;TZID=Europe/Paris:20250514T230000
DTSTAMP:20260420T005947
CREATED:20250409T124833Z
LAST-MODIFIED:20250505T085524Z
UID:1290-1747252800-1747263600@energiesdupaysderennes.fr
SUMMARY:14 mai 2025 : ciné-débat We The Power à Vezin
DESCRIPTION:L’association Energies du pays de Rennes et le collectif Vezin’Sol proposent d’aborder les engagements citoyens en matière d’énergie renouvelable locale autour du film We The Power qui apporte les témoignages d’engagements réalisés dans différents pays européens. \nA l’issue de la projection\, un débat sera proposé\, avec des acteurs locaux engagés dans la transition énergétique : la SCIC Les Survoltés\, Enercoop Bretagne\, CIREN \nOn pourra aborder les projets qui se profilent à Vezin en la matière.
URL:https://energiesdupaysderennes.fr/event/1290/
LOCATION:salle mosaïque\, médiathèque Le Tempo 11 Ctr de l’Église\, 35132 Vezin-le-Coquet\, 11 Ctr de l'Église\,\, Vezin-le-Coquet\, 35132\, France
ATTACH;FMTTYPE=image/webp:https://energiesdupaysderennes.fr/wp-content/uploads/2025/05/Vezin-Cine-Debat-Flyer-A4.webp
END:VEVENT
BEGIN:VEVENT
DTSTART;TZID=Europe/Paris:20250518T103000
DTEND;TZID=Europe/Paris:20250518T180000
DTSTAMP:20260420T005947
CREATED:20250511T173226Z
LAST-MODIFIED:20250511T173507Z
UID:1513-1747564200-1747591200@energiesdupaysderennes.fr
SUMMARY:Printemps des énergies
DESCRIPTION:Nous vous invitons à nous rejoindre le dimanche 18 mai pour une grande journée Energie ! \nAu programme : \n10h30 – 12h : L’assemblée générale ; C’est un moment fort de l’association\, qui redonne un nouveau souffle\, s’inspirant des réalisations de l’année écoulée et qui seront exposées. \n12h – 14h : temps convivial et pique-nique tiré du sac ; Michel nous présentera ses travaux d’exploration du Routeur d’électricité. \n14h – 16h30 : ateliers énergie ; marmite norvégienne\, remorque énergie\, panneaux plug and play\, et des ateliers pour les enfants \nNous terminerons par un goûter en dégustant ce qui aura été cuit en marmite norvégienne \nle lieu : Ecole Ste Bernadette\, 3 rue Victor Rault\, Rennes. \nL’école Ste Bernadette est membre de la boucle d’autoconsommation collective de Brequigny\, nous les remercions de mettre leurs locaux à notre disposition pour cet évènement de l’association.
URL:https://energiesdupaysderennes.fr/event/printemps-des-energies/
LOCATION:Ecole Ste Bernadette\, 3 rue Victor Rault\, Rennes\, 35200\, France
ATTACH;FMTTYPE=image/webp:https://energiesdupaysderennes.fr/wp-content/uploads/2025/05/Printemps-des-energies.webp
END:VEVENT
BEGIN:VEVENT
DTSTART;TZID=Europe/Paris:20250525T150000
DTEND;TZID=Europe/Paris:20250525T164500
DTSTAMP:20260420T005947
CREATED:20250517T155328Z
LAST-MODIFIED:20250517T155536Z
UID:1589-1748185200-1748191500@energiesdupaysderennes.fr
SUMMARY:Atelier cablage panneau photovoltaïque plug and play à Laillé
DESCRIPTION:L’association Energies du pays de Rennes organise avec la commune de Laillé dans le cadre de l’événement « En chemin »\, une nouvelle session d’ateliers d’initiation/câblage/distribution de panneaux solaires plug and play. \nAvec un panneau solaire plug and play\, vous lui trouverez une belle place au soleil pour qu’il produise chaque année entre 400 et 500 kWh d’électricité que vous effacerez de votre facture d’électricité. La participation à l’atelier est obligatoire\, de sorte que vous soyez le mieux informé de son utilisation. Au cours de l’atelier\, nous ferons ensemble le câblage\, que nous testerons pour vérifier la sécurité de l’installation. \nContacter l’association pour vous inscrire et réserver un panneau.
URL:https://energiesdupaysderennes.fr/event/atelier-cablage-panneau-photovoltaique-plug-and-play/
LOCATION:Laillé\, rue du patis\, Laillé
END:VEVENT
END:VCALENDAR