BEGIN:VCALENDAR
VERSION:2.0
PRODID:-//Energies du Pays de Rennes - ECPv6.15.17.1//NONSGML v1.0//EN
CALSCALE:GREGORIAN
METHOD:PUBLISH
X-ORIGINAL-URL:https://energiesdupaysderennes.fr
X-WR-CALDESC:Évènements pour Energies du Pays de Rennes
REFRESH-INTERVAL;VALUE=DURATION:PT1H
X-Robots-Tag:noindex
X-PUBLISHED-TTL:PT1H
BEGIN:VTIMEZONE
TZID:Europe/Paris
BEGIN:DAYLIGHT
TZOFFSETFROM:+0100
TZOFFSETTO:+0200
TZNAME:CEST
DTSTART:20240331T010000
END:DAYLIGHT
BEGIN:STANDARD
TZOFFSETFROM:+0200
TZOFFSETTO:+0100
TZNAME:CET
DTSTART:20241027T010000
END:STANDARD
BEGIN:DAYLIGHT
TZOFFSETFROM:+0100
TZOFFSETTO:+0200
TZNAME:CEST
DTSTART:20250330T010000
END:DAYLIGHT
BEGIN:STANDARD
TZOFFSETFROM:+0200
TZOFFSETTO:+0100
TZNAME:CET
DTSTART:20251026T010000
END:STANDARD
BEGIN:DAYLIGHT
TZOFFSETFROM:+0100
TZOFFSETTO:+0200
TZNAME:CEST
DTSTART:20260329T010000
END:DAYLIGHT
BEGIN:STANDARD
TZOFFSETFROM:+0200
TZOFFSETTO:+0100
TZNAME:CET
DTSTART:20261025T010000
END:STANDARD
END:VTIMEZONE
BEGIN:VEVENT
DTSTART;TZID=Europe/Paris:20251114T190000
DTEND;TZID=Europe/Paris:20251114T203000
DTSTAMP:20260425T154237
CREATED:20251019T145858Z
LAST-MODIFIED:20251019T154210Z
UID:1756-1763146800-1763152200@energiesdupaysderennes.fr
SUMMARY:Atelier panneaux solaires plug and play à Guichen
DESCRIPTION:CIREN s’associe avec Energ’IV et la centrale solaire au sol Ker Heol à Guignen\, l’ALEC des Vallons de Vilaine\, l’intercommunalité Vallons de Haute Bretagne pour programmer un nouvel atelier de panneaux solaires en autoconsommation directe « plug and play ». \nAvec un kit solaire plug and play de 1 panneau\, on peut couvrir efficacement de 10 à 20% de la consommation d’électricité de l’habitation\, pourvu qu’on lui trouve une belle place au soleil. \n\nRéunion publique pour donner les détails le 14 novembre 2025 à Guichen\, et lancement des commandes\natelier d’initiation + autoconstruction et distribution des kits le samedi 6 décembre 2025 à Guichen\n\nRenseignements et inscription : Cliquez ici
URL:https://energiesdupaysderennes.fr/event/atelier-panneaux-solaires-plug-and-play-a-guignen/
LOCATION:Maison intercommunale Vallons de Haute Bretagne\, 12 rue Blaise Pascal\, GUICHEN\, 35580\, France
END:VEVENT
BEGIN:VEVENT
DTSTART;TZID=Europe/Paris:20251120T170000
DTEND;TZID=Europe/Paris:20251120T193000
DTSTAMP:20260425T154237
CREATED:20251019T161823Z
LAST-MODIFIED:20251019T161823Z
UID:1777-1763658000-1763667000@energiesdupaysderennes.fr
SUMMARY:Forum de la finance solidaire : et si nos choix changeaient le monde ?
DESCRIPTION:Programme \n17h00 : Introduction sur “La finance solidaire\, qu’est-ce que c’est ?”\n17h20 : Conférence sur « Allier finance\, sociale et transition énergétique\, c’est possible ! » Enercoop\, Energie Solidaire\, Taranis et CIREN\n17h50 : Conférence sur « Réinventer l’épargne et l’accès au financement : entre inclusion\, éthique et innovation » avec avec Habitat et Humanisme l’Adie\, la Nef\, Crédit Mutuel et la SIDI / ESD\n18h20 – 19h00 : Déroulement du forum avec les stands (circulation libre)\n19h00 – 19h30 : Temps d’échange \nEntrée gratuite\, sur inscription au lien suivant : cliquez ici
URL:https://energiesdupaysderennes.fr/event/forum-de-la-finance-solidaire-et-si-nos-choix-changeaient-le-monde/
LOCATION:Maison des Assos Rennes\, 6 cour des Alliés\, RENNES\, 35000\, France
END:VEVENT
END:VCALENDAR