BEGIN:VCALENDAR
VERSION:2.0
PRODID:-//Energies du Pays de Rennes - ECPv6.15.17.1//NONSGML v1.0//EN
CALSCALE:GREGORIAN
METHOD:PUBLISH
X-ORIGINAL-URL:https://energiesdupaysderennes.fr
X-WR-CALDESC:Évènements pour Energies du Pays de Rennes
REFRESH-INTERVAL;VALUE=DURATION:PT1H
X-Robots-Tag:noindex
X-PUBLISHED-TTL:PT1H
BEGIN:VTIMEZONE
TZID:Europe/Paris
BEGIN:DAYLIGHT
TZOFFSETFROM:+0100
TZOFFSETTO:+0200
TZNAME:CEST
DTSTART:20250330T010000
END:DAYLIGHT
BEGIN:STANDARD
TZOFFSETFROM:+0200
TZOFFSETTO:+0100
TZNAME:CET
DTSTART:20251026T010000
END:STANDARD
BEGIN:DAYLIGHT
TZOFFSETFROM:+0100
TZOFFSETTO:+0200
TZNAME:CEST
DTSTART:20260329T010000
END:DAYLIGHT
BEGIN:STANDARD
TZOFFSETFROM:+0200
TZOFFSETTO:+0100
TZNAME:CET
DTSTART:20261025T010000
END:STANDARD
BEGIN:DAYLIGHT
TZOFFSETFROM:+0100
TZOFFSETTO:+0200
TZNAME:CEST
DTSTART:20270328T010000
END:DAYLIGHT
BEGIN:STANDARD
TZOFFSETFROM:+0200
TZOFFSETTO:+0100
TZNAME:CET
DTSTART:20271031T010000
END:STANDARD
END:VTIMEZONE
BEGIN:VEVENT
DTSTART;TZID=Europe/Paris:20260410T203000
DTEND;TZID=Europe/Paris:20260410T223000
DTSTAMP:20260421T114625
CREATED:20260310T165029Z
LAST-MODIFIED:20260310T165029Z
UID:1813-1775853000-1775860200@energiesdupaysderennes.fr
SUMMARY:Soirée Energies renouvelables locales à Bruz avec le Lombric Fourchu
DESCRIPTION:Avec la mise en place de la centrale solaire sur le toit de l’école Prévert à Bruz\, venez découvrir comment vous pouvez consommer localement une électricité produite localement. \nMise en lumière du projet et du contexte avec le spectacle interactif du Lombric Fourchu.
URL:https://energiesdupaysderennes.fr/event/soiree-energies-renouvelables-locales-a-bruz-avec-le-lombric-fourchu/
LOCATION:Auditorium Simone Veil\, BRUZ\, France
END:VEVENT
END:VCALENDAR