BEGIN:VCALENDAR
VERSION:2.0
PRODID:-//Energies du Pays de Rennes - ECPv6.15.17.1//NONSGML v1.0//EN
CALSCALE:GREGORIAN
METHOD:PUBLISH
X-ORIGINAL-URL:https://energiesdupaysderennes.fr
X-WR-CALDESC:Évènements pour Energies du Pays de Rennes
REFRESH-INTERVAL;VALUE=DURATION:PT1H
X-Robots-Tag:noindex
X-PUBLISHED-TTL:PT1H
BEGIN:VTIMEZONE
TZID:Europe/Paris
BEGIN:DAYLIGHT
TZOFFSETFROM:+0100
TZOFFSETTO:+0200
TZNAME:CEST
DTSTART:20240331T010000
END:DAYLIGHT
BEGIN:STANDARD
TZOFFSETFROM:+0200
TZOFFSETTO:+0100
TZNAME:CET
DTSTART:20241027T010000
END:STANDARD
BEGIN:DAYLIGHT
TZOFFSETFROM:+0100
TZOFFSETTO:+0200
TZNAME:CEST
DTSTART:20250330T010000
END:DAYLIGHT
BEGIN:STANDARD
TZOFFSETFROM:+0200
TZOFFSETTO:+0100
TZNAME:CET
DTSTART:20251026T010000
END:STANDARD
BEGIN:DAYLIGHT
TZOFFSETFROM:+0100
TZOFFSETTO:+0200
TZNAME:CEST
DTSTART:20260329T010000
END:DAYLIGHT
BEGIN:STANDARD
TZOFFSETFROM:+0200
TZOFFSETTO:+0100
TZNAME:CET
DTSTART:20261025T010000
END:STANDARD
END:VTIMEZONE
BEGIN:VEVENT
DTSTART;TZID=Europe/Paris:20251113T200000
DTEND;TZID=Europe/Paris:20251113T220000
DTSTAMP:20260419T175542
CREATED:20251019T154900Z
LAST-MODIFIED:20251019T154900Z
UID:1771-1763064000-1763071200@energiesdupaysderennes.fr
SUMMARY:Un projet solaire citoyen à Chevaigné : on se mobilise !
DESCRIPTION:Envie d’en savoir plus sur les énergies renouvelables et les projets citoyens ? Rejoignez-nous pour une nouvelle soirée inspirante et ludique ! \nLa Ville de Chevaigné\, en partenariat avec l’Agence Locale de l’Énergie et du Climat du Pays de Rennes\, vous invite à une nouvelle soirée dédiée au développement d’un projet citoyen d’autoconsommation collective. \n \nAu programme : \n\nAtelier participatif et ludique : créez votre projet d’autoconsommation collective en local !\nApprenez les bases de l’autoconsommation collective et découvrez un projet d’autoconsommation en fonctionnement\, avec CIREN.\nMesurez combien collectivement nous pouvons lancer et financer un projet similaire à Chevaigné\nÉchangez avec nous autour d’un pot convivial !\n\nAtelier gratuit. Inscription obligatoire via ce lien : https://bit.ly/Chevaigne13nov \nVenez échanger\, apprendre et\, qui sait\, devenir acteur et actrice de votre propre projet citoyen !
URL:https://energiesdupaysderennes.fr/event/un-projet-solaire-citoyen-a-chevaigne-on-se-mobilise/
LOCATION:Mairie de Chevaigné\, 7 rue de la mairie\, Chevaigné\, 35250\, France
END:VEVENT
END:VCALENDAR