BEGIN:VCALENDAR
VERSION:2.0
PRODID:-//Energies du Pays de Rennes - ECPv6.15.17.1//NONSGML v1.0//EN
CALSCALE:GREGORIAN
METHOD:PUBLISH
X-ORIGINAL-URL:https://energiesdupaysderennes.fr
X-WR-CALDESC:Évènements pour Energies du Pays de Rennes
REFRESH-INTERVAL;VALUE=DURATION:PT1H
X-Robots-Tag:noindex
X-PUBLISHED-TTL:PT1H
BEGIN:VTIMEZONE
TZID:Europe/Paris
BEGIN:DAYLIGHT
TZOFFSETFROM:+0100
TZOFFSETTO:+0200
TZNAME:CEST
DTSTART:20240331T010000
END:DAYLIGHT
BEGIN:STANDARD
TZOFFSETFROM:+0200
TZOFFSETTO:+0100
TZNAME:CET
DTSTART:20241027T010000
END:STANDARD
BEGIN:DAYLIGHT
TZOFFSETFROM:+0100
TZOFFSETTO:+0200
TZNAME:CEST
DTSTART:20250330T010000
END:DAYLIGHT
BEGIN:STANDARD
TZOFFSETFROM:+0200
TZOFFSETTO:+0100
TZNAME:CET
DTSTART:20251026T010000
END:STANDARD
BEGIN:DAYLIGHT
TZOFFSETFROM:+0100
TZOFFSETTO:+0200
TZNAME:CEST
DTSTART:20260329T010000
END:DAYLIGHT
BEGIN:STANDARD
TZOFFSETFROM:+0200
TZOFFSETTO:+0100
TZNAME:CET
DTSTART:20261025T010000
END:STANDARD
END:VTIMEZONE
BEGIN:VEVENT
DTSTART;TZID=Europe/Paris:20251005T140000
DTEND;TZID=Europe/Paris:20251005T180000
DTSTAMP:20260419T182413
CREATED:20250930T082140Z
LAST-MODIFIED:20250930T082140Z
UID:1738-1759672800-1759687200@energiesdupaysderennes.fr
SUMMARY:Fête de la Pommeraie
DESCRIPTION:La remorque Energie de l’association apporte son énergie pour la fête de la Pommeraie dimanche 5 octobre 2025 de 14h à 18h.
URL:https://energiesdupaysderennes.fr/event/fete-de-la-pommeraie/
END:VEVENT
END:VCALENDAR