BEGIN:VCALENDAR
VERSION:2.0
PRODID:-//Energies du Pays de Rennes - ECPv6.15.17.1//NONSGML v1.0//EN
CALSCALE:GREGORIAN
METHOD:PUBLISH
X-WR-CALNAME:Energies du Pays de Rennes
X-ORIGINAL-URL:https://energiesdupaysderennes.fr
X-WR-CALDESC:Évènements pour Energies du Pays de Rennes
REFRESH-INTERVAL;VALUE=DURATION:PT1H
X-Robots-Tag:noindex
X-PUBLISHED-TTL:PT1H
BEGIN:VTIMEZONE
TZID:Europe/Paris
BEGIN:DAYLIGHT
TZOFFSETFROM:+0100
TZOFFSETTO:+0200
TZNAME:CEST
DTSTART:20240331T010000
END:DAYLIGHT
BEGIN:STANDARD
TZOFFSETFROM:+0200
TZOFFSETTO:+0100
TZNAME:CET
DTSTART:20241027T010000
END:STANDARD
BEGIN:DAYLIGHT
TZOFFSETFROM:+0100
TZOFFSETTO:+0200
TZNAME:CEST
DTSTART:20250330T010000
END:DAYLIGHT
BEGIN:STANDARD
TZOFFSETFROM:+0200
TZOFFSETTO:+0100
TZNAME:CET
DTSTART:20251026T010000
END:STANDARD
BEGIN:DAYLIGHT
TZOFFSETFROM:+0100
TZOFFSETTO:+0200
TZNAME:CEST
DTSTART:20260329T010000
END:DAYLIGHT
BEGIN:STANDARD
TZOFFSETFROM:+0200
TZOFFSETTO:+0100
TZNAME:CET
DTSTART:20261025T010000
END:STANDARD
END:VTIMEZONE
BEGIN:VEVENT
DTSTART;TZID=Europe/Paris:20250518T103000
DTEND;TZID=Europe/Paris:20250518T180000
DTSTAMP:20260420T024614
CREATED:20250511T173226Z
LAST-MODIFIED:20250511T173507Z
UID:1513-1747564200-1747591200@energiesdupaysderennes.fr
SUMMARY:Printemps des énergies
DESCRIPTION:Nous vous invitons à nous rejoindre le dimanche 18 mai pour une grande journée Energie ! \nAu programme : \n10h30 – 12h : L’assemblée générale ; C’est un moment fort de l’association\, qui redonne un nouveau souffle\, s’inspirant des réalisations de l’année écoulée et qui seront exposées. \n12h – 14h : temps convivial et pique-nique tiré du sac ; Michel nous présentera ses travaux d’exploration du Routeur d’électricité. \n14h – 16h30 : ateliers énergie ; marmite norvégienne\, remorque énergie\, panneaux plug and play\, et des ateliers pour les enfants \nNous terminerons par un goûter en dégustant ce qui aura été cuit en marmite norvégienne \nle lieu : Ecole Ste Bernadette\, 3 rue Victor Rault\, Rennes. \nL’école Ste Bernadette est membre de la boucle d’autoconsommation collective de Brequigny\, nous les remercions de mettre leurs locaux à notre disposition pour cet évènement de l’association.
URL:https://energiesdupaysderennes.fr/event/printemps-des-energies/
LOCATION:Ecole Ste Bernadette\, 3 rue Victor Rault\, Rennes\, 35200\, France
ATTACH;FMTTYPE=image/webp:https://energiesdupaysderennes.fr/wp-content/uploads/2025/05/Printemps-des-energies.webp
END:VEVENT
END:VCALENDAR