BEGIN:VCALENDAR
VERSION:2.0
PRODID:-//Energies du Pays de Rennes - ECPv6.15.17.1//NONSGML v1.0//EN
CALSCALE:GREGORIAN
METHOD:PUBLISH
X-WR-CALNAME:Energies du Pays de Rennes
X-ORIGINAL-URL:https://energiesdupaysderennes.fr
X-WR-CALDESC:Évènements pour Energies du Pays de Rennes
REFRESH-INTERVAL;VALUE=DURATION:PT1H
X-Robots-Tag:noindex
X-PUBLISHED-TTL:PT1H
BEGIN:VTIMEZONE
TZID:Europe/Paris
BEGIN:DAYLIGHT
TZOFFSETFROM:+0100
TZOFFSETTO:+0200
TZNAME:CEST
DTSTART:20240331T010000
END:DAYLIGHT
BEGIN:STANDARD
TZOFFSETFROM:+0200
TZOFFSETTO:+0100
TZNAME:CET
DTSTART:20241027T010000
END:STANDARD
BEGIN:DAYLIGHT
TZOFFSETFROM:+0100
TZOFFSETTO:+0200
TZNAME:CEST
DTSTART:20250330T010000
END:DAYLIGHT
BEGIN:STANDARD
TZOFFSETFROM:+0200
TZOFFSETTO:+0100
TZNAME:CET
DTSTART:20251026T010000
END:STANDARD
BEGIN:DAYLIGHT
TZOFFSETFROM:+0100
TZOFFSETTO:+0200
TZNAME:CEST
DTSTART:20260329T010000
END:DAYLIGHT
BEGIN:STANDARD
TZOFFSETFROM:+0200
TZOFFSETTO:+0100
TZNAME:CET
DTSTART:20261025T010000
END:STANDARD
END:VTIMEZONE
BEGIN:VEVENT
DTSTART;TZID=Europe/Paris:20250331T180000
DTEND;TZID=Europe/Paris:20250331T200000
DTSTAMP:20260420T042630
CREATED:20250305T202436Z
LAST-MODIFIED:20250305T205559Z
UID:1254-1743444000-1743451200@energiesdupaysderennes.fr
SUMMARY:Le solaire citoyen à La Chapelle des Fougeretz : expérience en cours et développements 2025
DESCRIPTION:La première centrale solaire de CIREN à La Chapelle des Fougeretz est opérationnelle depuis l’été 2024\, sur le toit du bâtiment Réemploi à la déchetterie de La Chapelle des Fougeretz. Elle nous livre ses premiers chiffres de fonctionnement. Et on lance la mobilisation pour une nouvelle étape de l’opération d’autoconsommation collective avec la réalisation d’une centrale solaire sur le toit du pôle socio-culturel bientôt opérationnel. \nLe financement de cette nouvelle installation s’inscrit dans le cadre de la levée de fonds citoyenne 2025 de CIREN \nL’opération d’autoconsommation collective a démarré sur la commune. Il reste encore de la capacité à accueillir des nouveaux participants consommateurs\, et d’autant plus une fois que la deuxième centrale solaire sera mise en service
URL:https://energiesdupaysderennes.fr/event/le-solaire-citoyen-a-la-chapelle-des-fougeretz-experience-en-cours-et-developpements-2025/
LOCATION:Salle des cerisiers\, rue Kalchreuth\, La Chapelle des Fougeretz\, 35520\, France
ATTACH;FMTTYPE=image/jpeg:https://energiesdupaysderennes.fr/wp-content/uploads/2025/03/LaChapelleCentrale-scaled.jpg
END:VEVENT
END:VCALENDAR