BEGIN:VCALENDAR
VERSION:2.0
PRODID:-//Energies du Pays de Rennes - ECPv6.15.17.1//NONSGML v1.0//EN
CALSCALE:GREGORIAN
METHOD:PUBLISH
X-WR-CALNAME:Energies du Pays de Rennes
X-ORIGINAL-URL:https://energiesdupaysderennes.fr
X-WR-CALDESC:Évènements pour Energies du Pays de Rennes
REFRESH-INTERVAL;VALUE=DURATION:PT1H
X-Robots-Tag:noindex
X-PUBLISHED-TTL:PT1H
BEGIN:VTIMEZONE
TZID:Europe/Paris
BEGIN:DAYLIGHT
TZOFFSETFROM:+0100
TZOFFSETTO:+0200
TZNAME:CEST
DTSTART:20240331T010000
END:DAYLIGHT
BEGIN:STANDARD
TZOFFSETFROM:+0200
TZOFFSETTO:+0100
TZNAME:CET
DTSTART:20241027T010000
END:STANDARD
BEGIN:DAYLIGHT
TZOFFSETFROM:+0100
TZOFFSETTO:+0200
TZNAME:CEST
DTSTART:20250330T010000
END:DAYLIGHT
BEGIN:STANDARD
TZOFFSETFROM:+0200
TZOFFSETTO:+0100
TZNAME:CET
DTSTART:20251026T010000
END:STANDARD
BEGIN:DAYLIGHT
TZOFFSETFROM:+0100
TZOFFSETTO:+0200
TZNAME:CEST
DTSTART:20260329T010000
END:DAYLIGHT
BEGIN:STANDARD
TZOFFSETFROM:+0200
TZOFFSETTO:+0100
TZNAME:CET
DTSTART:20261025T010000
END:STANDARD
END:VTIMEZONE
BEGIN:VEVENT
DTSTART;TZID=Europe/Paris:20250314T200000
DTEND;TZID=Europe/Paris:20250314T200000
DTSTAMP:20260420T060117
CREATED:20250305T195123Z
LAST-MODIFIED:20250305T195419Z
UID:1243-1741982400-1741982400@energiesdupaysderennes.fr
SUMMARY:Ciné-débat autour du film Après Demain
DESCRIPTION:Autour du film documentaire Après-demain\, on ouvre les perspectives d’engagement local pour une transition écologique souhaitable. En 2018\, Cyril Dion et Laure Noualhat revenaient sur les projets citoyens mis en avant dans le film Demain qui avait eu un gros succès en 2015 et avait suscité un grand engouement. \nDans le contexte actuel de 2025\, c’est instructif de revoir cette analyse\, et interroge sur notre volonté à renouveler ou réinventer les engagements que l’on peut prendre\, à agir à notre échelle.
URL:https://energiesdupaysderennes.fr/event/cine-debat/
LOCATION:Auditorium Simone Veil\, BRUZ\, France
ATTACH;FMTTYPE=image/png:https://energiesdupaysderennes.fr/wp-content/uploads/2025/02/20250314-cine-debat-Bruz-affiche.png
END:VEVENT
END:VCALENDAR